Workbook

Sheet Summary
A1: ABLE ESTIMATING LLC
A2: Accuracy • Ability • On Time | ableestimating.com | (786) 887-6161 | hire@ableestimating.com
A4: Quantity Takeoff Summary
A5: Project: | B5: Single-Family Residence – Complete Takeoff
A6: Location: | B6: Florida
A7: Scope: | B7: Complete GC takeoff – site demo, concrete, masonry, steel, framing, envelope, finishes, MEP & sitework
A8: Deliverable: | B8: Itemized quantity takeoff – quantities only
A10: CSI Division | B10: Line Items | C10: Each (EA) | D10: Linear Ft (LF) | E10: Square Ft (SF) | F10: Cubic Yd (CY) | G10: Key Items
A11: 02 – Selective Removals and Demolitions | B11: =COUNTIF('Quantity Takeoff'!$B$10:$B$311,A11) -> 8 | C11: =SUMIFS('Quantity Takeoff'!$G$10:$G$311,'Quantity Takeoff'!$B$10:$B$311,A11,'Quantity Takeoff'!$J$10:$J$311,"EA") -> 7 | D11: =SUMIFS('Quantity Takeoff'!$G$10:$G$311,'Quantity Takeoff'!$B$10:$B$311,A11,'Quantity Takeoff'!$J$10:$J$311,"LF") -> 1106.57 | E11: =SUMIFS('Quantity Takeoff'!$G$10:$G$311,'Quantity Takeoff'!$B$10:$B$311,A11,'Quantity Takeoff'!$J$10:$J$311,"SF") -> 8274.82 | F11: =SUMIFS('Quantity Takeoff'!$G$10:$G$311,'Quantity Takeoff'!$B$10:$B$311,A11,'Quantity Takeoff'!$J$10:$J$311,"CY") -> 0 | G11: Site Demo
A12: 03 – Concrete | B12: =COUNTIF('Quantity Takeoff'!$B$10:$B$311,A12) -> 30 | C12: =SUMIFS('Quantity Takeoff'!$G$10:$G$311,'Quantity Takeoff'!$B$10:$B$311,A12,'Quantity Takeoff'!$J$10:$J$311,"EA") -> 0 | D12: =SUMIFS('Quantity Takeoff'!$G$10:$G$311,'Quantity Takeoff'!$B$10:$B$311,A12,'Quantity Takeoff'!$J$10:$J$311,"LF") -> 602.42 | E12: =SUMIFS('Quantity Takeoff'!$G$10:$G$311,'Quantity Takeoff'!$B$10:$B$311,A12,'Quantity Takeoff'!$J$10:$J$311,"SF") -> 442.53 | F12: =SUMIFS('Quantity Takeoff'!$G$10:$G$311,'Quantity Takeoff'!$B$10:$B$311,A12,'Quantity Takeoff'!$J$10:$J$311,"CY") -> 240.88429 | G12: Footings, Control Joints, Slab, Concrete Columns, Concrete Wall, …
A13: 04 – Unit Masonry | B13: =COUNTIF('Quantity Takeoff'!$B$10:$B$311,A13) -> 8 | C13: =SUMIFS('Quantity Takeoff'!$G$10:$G$311,'Quantity Takeoff'!$B$10:$B$311,A13,'Quantity Takeoff'!$J$10:$J$311,"EA") -> 5 | D13: =SUMIFS('Quantity Takeoff'!$G$10:$G$311,'Quantity Takeoff'!$B$10:$B$311,A13,'Quantity Takeoff'!$J$10:$J$311,"LF") -> 290.41 | E13: =SUMIFS('Quantity Takeoff'!$G$10:$G$311,'Quantity Takeoff'!$B$10:$B$311,A13,'Quantity Takeoff'!$J$10:$J$311,"SF") -> 8173.18 | F13: =SUMIFS('Quantity Takeoff'!$G$10:$G$311,'Quantity Takeoff'!$B$10:$B$311,A13,'Quantity Takeoff'!$J$10:$J$311,"CY") -> 0 | G13: Masonry, Masonry Pilaster, Lintels
A14: 05 – Metals | B14: =COUNTIF('Quantity Takeoff'!$B$10:$B$311,A14) -> 25 | C14: =SUMIFS('Quantity Takeoff'!$G$10:$G$311,'Quantity Takeoff'!$B$10:$B$311,A14,'Quantity Takeoff'!$J$10:$J$311,"EA") -> 0 | D14: =SUMIFS('Quantity Takeoff'!$G$10:$G$311,'Quantity Takeoff'!$B$10:$B$311,A14,'Quantity Takeoff'!$J$10:$J$311,"LF") -> 2074.06 | E14: =SUMIFS('Quantity Takeoff'!$G$10:$G$311,'Quantity Takeoff'!$B$10:$B$311,A14,'Quantity Takeoff'!$J$10:$J$311,"SF") -> 1988.87 | F14: =SUMIFS('Quantity Takeoff'!$G$10:$G$311,'Quantity Takeoff'!$B$10:$B$311,A14,'Quantity Takeoff'!$J$10:$J$311,"CY") -> 0 | G14: Steel Columns, Steel Beams, Angles, Roof Metal Deck, Beams, …
A15: 06 – Wood, Plastics & Composites | B15: =COUNTIF('Quantity Takeoff'!$B$10:$B$311,A15) -> 20 | C15: =SUMIFS('Quantity Takeoff'!$G$10:$G$311,'Quantity Takeoff'!$B$10:$B$311,A15,'Quantity Takeoff'!$J$10:$J$311,"EA") -> 0 | D15: =SUMIFS('Quantity Takeoff'!$G$10:$G$311,'Quantity Takeoff'!$B$10:$B$311,A15,'Quantity Takeoff'!$J$10:$J$311,"LF") -> 3185.4 | E15: =SUMIFS('Quantity Takeoff'!$G$10:$G$311,'Quantity Takeoff'!$B$10:$B$311,A15,'Quantity Takeoff'!$J$10:$J$311,"SF") -> 18740.45 | F15: =SUMIFS('Quantity Takeoff'!$G$10:$G$311,'Quantity Takeoff'!$B$10:$B$311,A15,'Quantity Takeoff'!$J$10:$J$311,"CY") -> 0 | G15: Trusses, Decking, Floor Sheathing, Blocking, Roof Sheathing, …
A16: 07 – Thermal and Moisture Protection | B16: =COUNTIF('Quantity Takeoff'!$B$10:$B$311,A16) -> 15 | C16: =SUMIFS('Quantity Takeoff'!$G$10:$G$311,'Quantity Takeoff'!$B$10:$B$311,A16,'Quantity Takeoff'!$J$10:$J$311,"EA") -> 1 | D16: =SUMIFS('Quantity Takeoff'!$G$10:$G$311,'Quantity Takeoff'!$B$10:$B$311,A16,'Quantity Takeoff'!$J$10:$J$311,"LF") -> 111.59 | E16: =SUMIFS('Quantity Takeoff'!$G$10:$G$311,'Quantity Takeoff'!$B$10:$B$311,A16,'Quantity Takeoff'!$J$10:$J$311,"SF") -> 36966.93 | F16: =SUMIFS('Quantity Takeoff'!$G$10:$G$311,'Quantity Takeoff'!$B$10:$B$311,A16,'Quantity Takeoff'!$J$10:$J$311,"CY") -> 0 | G16: Roofing, Exterior
A17: 08 – Openings | B17: =COUNTIF('Quantity Takeoff'!$B$10:$B$311,A17) -> 7 | C17: =SUMIFS('Quantity Takeoff'!$G$10:$G$311,'Quantity Takeoff'!$B$10:$B$311,A17,'Quantity Takeoff'!$J$10:$J$311,"EA") -> 48 | D17: =SUMIFS('Quantity Takeoff'!$G$10:$G$311,'Quantity Takeoff'!$B$10:$B$311,A17,'Quantity Takeoff'!$J$10:$J$311,"LF") -> 0 | E17: =SUMIFS('Quantity Takeoff'!$G$10:$G$311,'Quantity Takeoff'!$B$10:$B$311,A17,'Quantity Takeoff'!$J$10:$J$311,"SF") -> 0 | F17: =SUMIFS('Quantity Takeoff'!$G$10:$G$311,'Quantity Takeoff'!$B$10:$B$311,A17,'Quantity Takeoff'!$J$10:$J$311,"CY") -> 0 | G17: Doors, Doors Hardware, Skylights
A18: 09 – Finishes | B18: =COUNTIF('Quantity Takeoff'!$B$10:$B$311,A18) -> 29 | C18: =SUMIFS('Quantity Takeoff'!$G$10:$G$311,'Quantity Takeoff'!$B$10:$B$311,A18,'Quantity Takeoff'!$J$10:$J$311,"EA") -> 22 | D18: =SUMIFS('Quantity Takeoff'!$G$10:$G$311,'Quantity Takeoff'!$B$10:$B$311,A18,'Quantity Takeoff'!$J$10:$J$311,"LF") -> 10410.628 | E18: =SUMIFS('Quantity Takeoff'!$G$10:$G$311,'Quantity Takeoff'!$B$10:$B$311,A18,'Quantity Takeoff'!$J$10:$J$311,"SF") -> 44475.82 | F18: =SUMIFS('Quantity Takeoff'!$G$10:$G$311,'Quantity Takeoff'!$B$10:$B$311,A18,'Quantity Takeoff'!$J$10:$J$311,"CY") -> 0 | G18: 2X4 Interior Wall, 2x8 Interior Wall, 2X4 Knee Wall, Wall Paint, Flooring, …
A19: 10 – Specialties | B19: =COUNTIF('Quantity Takeoff'!$B$10:$B$311,A19) -> 6 | C19: =SUMIFS('Quantity Takeoff'!$G$10:$G$311,'Quantity Takeoff'!$B$10:$B$311,A19,'Quantity Takeoff'!$J$10:$J$311,"EA") -> 48 | D19: =SUMIFS('Quantity Takeoff'!$G$10:$G$311,'Quantity Takeoff'!$B$10:$B$311,A19,'Quantity Takeoff'!$J$10:$J$311,"LF") -> 0 | E19: =SUMIFS('Quantity Takeoff'!$G$10:$G$311,'Quantity Takeoff'!$B$10:$B$311,A19,'Quantity Takeoff'!$J$10:$J$311,"SF") -> 0 | F19: =SUMIFS('Quantity Takeoff'!$G$10:$G$311,'Quantity Takeoff'!$B$10:$B$311,A19,'Quantity Takeoff'!$J$10:$J$311,"CY") -> 0 | G19: Bath Accessories
A20: 11 – Equipment | B20: =COUNTIF('Quantity Takeoff'!$B$10:$B$311,A20) -> 5 | C20: =SUMIFS('Quantity Takeoff'!$G$10:$G$311,'Quantity Takeoff'!$B$10:$B$311,A20,'Quantity Takeoff'!$J$10:$J$311,"EA") -> 5 | D20: =SUMIFS('Quantity Takeoff'!$G$10:$G$311,'Quantity Takeoff'!$B$10:$B$311,A20,'Quantity Takeoff'!$J$10:$J$311,"LF") -> 0 | E20: =SUMIFS('Quantity Takeoff'!$G$10:$G$311,'Quantity Takeoff'!$B$10:$B$311,A20,'Quantity Takeoff'!$J$10:$J$311,"SF") -> 0 | F20: =SUMIFS('Quantity Takeoff'!$G$10:$G$311,'Quantity Takeoff'!$B$10:$B$311,A20,'Quantity Takeoff'!$J$10:$J$311,"CY") -> 0 | G20: Cooking Range W/ Hood, Oven, Refrigerator, Washer, Dryer
A21: 12 – Furnishings | B21: =COUNTIF('Quantity Takeoff'!$B$10:$B$311,A21) -> 8 | C21: =SUMIFS('Quantity Takeoff'!$G$10:$G$311,'Quantity Takeoff'!$B$10:$B$311,A21,'Quantity Takeoff'!$J$10:$J$311,"EA") -> 5 | D21: =SUMIFS('Quantity Takeoff'!$G$10:$G$311,'Quantity Takeoff'!$B$10:$B$311,A21,'Quantity Takeoff'!$J$10:$J$311,"LF") -> 350.63 | E21: =SUMIFS('Quantity Takeoff'!$G$10:$G$311,'Quantity Takeoff'!$B$10:$B$311,A21,'Quantity Takeoff'!$J$10:$J$311,"SF") -> 0 | F21: =SUMIFS('Quantity Takeoff'!$G$10:$G$311,'Quantity Takeoff'!$B$10:$B$311,A21,'Quantity Takeoff'!$J$10:$J$311,"CY") -> 0 | G21: 18" Wide Countertop, 36" Wide Countertop, Lower Cabinets, Upper Cabinets, Kitchen Island, …
A22: 22 – Plumbing | B22: =COUNTIF('Quantity Takeoff'!$B$10:$B$311,A22) -> 25 | C22: =SUMIFS('Quantity Takeoff'!$G$10:$G$311,'Quantity Takeoff'!$B$10:$B$311,A22,'Quantity Takeoff'!$J$10:$J$311,"EA") -> 28 | D22: =SUMIFS('Quantity Takeoff'!$G$10:$G$311,'Quantity Takeoff'!$B$10:$B$311,A22,'Quantity Takeoff'!$J$10:$J$311,"LF") -> 1769.91 | E22: =SUMIFS('Quantity Takeoff'!$G$10:$G$311,'Quantity Takeoff'!$B$10:$B$311,A22,'Quantity Takeoff'!$J$10:$J$311,"SF") -> 0 | F22: =SUMIFS('Quantity Takeoff'!$G$10:$G$311,'Quantity Takeoff'!$B$10:$B$311,A22,'Quantity Takeoff'!$J$10:$J$311,"CY") -> 0 | G22: Sanitary & Vent Pipes, Domestic Pipes, Plumbing Fixtures
... A27: 33 – Utilities | B27: =COUNTIF('Quantity Takeoff'!$B$10:$B$311,A27) -> 7 | C27: =SUMIFS('Quantity Takeoff'!$G$10:$G$311,'Quantity Takeoff'!$B$10:$B$311,A27,'Quantity Takeoff'!$J$10:$J$311,"EA") -> 5 | D27: =SUMIFS('Quantity Takeoff'!$G$10:$G$311,'Quantity Takeoff'!$B$10:$B$311,A27,'Quantity Takeoff'!$J$10:$J$311,"LF") -> 357.35 | E27: =SUMIFS('Quantity Takeoff'!$G$10:$G$311,'Quantity Takeoff'!$B$10:$B$311,A27,'Quantity Takeoff'!$J$10:$J$311,"SF") -> 0 | F27: =SUMIFS('Quantity Takeoff'!$G$10:$G$311,'Quantity Takeoff'!$B$10:$B$311,A27,'Quantity Takeoff'!$J$10:$J$311,"CY") -> 0 | G27: 4" Sanitary Sewer Pvc Pipe, Cleanout, 1500 Gallon Septic Tank, Septic Drain Filed, Overhead Service Line, …
A28: Total | B28: =SUM(B11:B27) -> 285 | C28: =SUM(C11:C27) -> 529 | D28: =SUM(D11:D27) -> 21820.728 | E28: =SUM(E11:E27) -> 130510.91 | F28: =SUM(F11:F27) -> 3488.8843
A30: What's included in our takeoffs
A31: • Itemized quantities by CSI division, floor level, category and size
A32: • Color-coded marked-up drawings in PlanSwift / Bluebeam Revu
A33: • Specs pulled from plans and schedules (types, sizes, materials, models)
A34: • Waste factors applied where needed
A35: • Optional: full pricing with material, labor, overhead & profit
A37: Takeoffs delivered in 24–48 hours • Start with a $200 trial project • ableestimating.com

Sheet Quantity Takeoff
A1: ABLE ESTIMATING LLC
A2: Accuracy • Ability • On Time | ableestimating.com | (786) 887-6161 | hire@ableestimating.com
A4: Detailed Quantity Takeoff
A5: Project: | C5: Single-Family Residence – Complete Takeoff
A6: Location: | C6: Florida
A7: Scope: | C7: Complete GC takeoff – site demo, concrete, masonry, steel, framing, envelope, finishes, MEP & sitework
A9: Item # | B9: CSI Division | C9: Level | D9: Category | E9: Item Description | F9: Specification / Notes | G9: Qty | H9: Waste % | I9: Qty w/ Waste | J9: Unit
A10: 02 – SELECTIVE REMOVALS AND DEMOLITIONS
A11: 1 | B11: 02 – Selective Removals and Demolitions | C11: — | D11: Site Demo | E11: Remove Buildings, Associated Patios, Utilities Etc | G11: 3601.53 | H11: 0 | I11: =G11*(1+H11) -> 3601.53 | J11: SF
A12: 2 | B12: 02 – Selective Removals and Demolitions | C12: — | D12: Site Demo | E12: Remove Concrete | G12: 687.09 | H12: 0 | I12: =G12*(1+H12) -> 687.09 | J12: SF
A13: 3 | B13: 02 – Selective Removals and Demolitions | C13: — | D13: Site Demo | E13: Tree Barricade | G13: 505.46 | H13: 0 | I13: =G13*(1+H13) -> 505.46 | J13: LF
A14: 4 | B14: 02 – Selective Removals and Demolitions | C14: — | D14: Site Demo | E14: Remove Canopy Struck. | G14: 607.59 | H14: 0 | I14: =G14*(1+H14) -> 607.59 | J14: SF
A15: 5 | B15: 02 – Selective Removals and Demolitions | C15: — | D15: Site Demo | E15: Remove Tree | G15: 5 | H15: 0 | I15: =G15*(1+H15) -> 5 | J15: EA
A16: 6 | B16: 02 – Selective Removals and Demolitions | C16: — | D16: Site Demo | E16: Remove Electrical Service Pole | G16: 2 | H16: 0 | I16: =G16*(1+H16) -> 2 | J16: EA
A17: 7 | B17: 02 – Selective Removals and Demolitions | C17: — | D17: Site Demo | E17: Remove Electric Service Overhead Lines | G17: 601.11 | H17: 0 | I17: =G17*(1+H17) -> 601.11 | J17: LF
A18: 8 | B18: 02 – Selective Removals and Demolitions | C18: — | D18: Site Demo | E18: Stabilize & Sod Area | G18: 3378.61 | H18: 0 | I18: =G18*(1+H18) -> 3378.61 | J18: SF
A19: 03 – CONCRETE
A20: 9 | B20: 03 – Concrete | C20: — | D20: Footings | E20: Concrete Steps | G20: 0.9 | H20: 0.1 | I20: =G20*(1+H20) -> 0.99 | J20: CY
A21: 10 | B21: 03 – Concrete | C21: — | D21: Footings | E21: (12"X12") Strip Footing Stairs | G21: 0.21777778 | H21: 0.1 | I21: =G21*(1+H21) -> 0.23955556 | J21: CY
A22: 11 | B22: 03 – Concrete | C22: — | D22: Footings | E22: F18M:(1'-8"X1'-6") Strip Footing W/ Rein. | G22: 8.2989722 | H22: 0.1 | I22: =G22*(1+H22) -> 9.1288694 | J22: CY
A23: 12 | B23: 03 – Concrete | C23: — | D23: Footings | E23: F18W:(1'-8"X1'-0") Strip Footing W/ Rein. | G23: 15.2805 | H23: 0.1 | I23: =G23*(1+H23) -> 16.80855 | J23: CY
A24: 13 | B24: 03 – Concrete | C24: — | D24: Footings | E24: F20W:(2'-0"X1'-0") Strip Footing W/ Rein. | G24: 10 | H24: 0.1 | I24: =G24*(1+H24) -> 11 | J24: CY
A25: 14 | B25: 03 – Concrete | C25: — | D25: Footings | E25: F20Wr:(2'-0"X1'-0") Strip Footing W/ Rein. | G25: 33.812593 | H25: 0.1 | I25: =G25*(1+H25) -> 37.193852 | J25: CY
A26: 15 | B26: 03 – Concrete | C26: — | D26: Footings | E26: F24W:(2'-4"X1'-0") Strip Footing W/ Rein. | G26: 4.1422222 | H26: 0.1 | I26: =G26*(1+H26) -> 4.5564444 | J26: CY
A27: 16 | B27: 03 – Concrete | C27: — | D27: Footings | E27: F26:(2'-6"X1'-0") Strip Footing W/ Rein. | G27: 0.92592593 | H27: 0.1 | I27: =G27*(1+H27) -> 1.0185185 | J27: CY
A28: 17 | B28: 03 – Concrete | C28: — | D28: Footings | E28: F30W:(3'-0"X1'-0") Strip Footing W/ Rein. | G28: 7.8888889 | H28: 0.1 | I28: =G28*(1+H28) -> 8.6777778 | J28: CY
A29: 18 | B29: 03 – Concrete | C29: — | D29: Footings | E29: F40:(4'-0"X4'-0"X1'-0") Strip Footing W/ Rein. | G29: 1.7777778 | H29: 0.1 | I29: =G29*(1+H29) -> 1.9555556 | J29: CY
A30: 19 | B30: 03 – Concrete | C30: — | D30: Footings | E30: F46:(4'-6"X4'-6"X1'-0") Strip Footing W/ Rein. | G30: 0.75 | H30: 0.1 | I30: =G30*(1+H30) -> 0.825 | J30: CY
A31: 20 | B31: 03 – Concrete | C31: — | D31: Footings | E31: F50:(5'-0"X5'-0"X1'-0") Strip Footing W/ Rein. | G31: 5.5555556 | H31: 0.1 | I31: =G31*(1+H31) -> 6.1111111 | J31: CY
... A36: 25 | B36: 03 – Concrete | C36: — | D36: Control Joints | E36: Saw Cut & Control Joints | G36: 602.42 | H36: 0.1 | I36: =G36*(1+H36) -> 662.662 | J36: LF
A37: 26 | B37: 03 – Concrete | C37: — | D37: Slab | E37: 4" Slab On Grade W/ (5600 Sf) | F37: Welded Wire Fabric ; 10 Mil Vapor Barrier ; Compacted Subgrade | G37: 68.444444 | H37: 0.1 | I37: =G37*(1+H37) -> 75.288889 | J37: CY
A38: 27 | B38: 03 – Concrete | C38: — | D38: Slab | E38: 1.3 Thickened Edge | G38: 2.2148148 | H38: 0.1 | I38: =G38*(1+H38) -> 2.4362963 | J38: CY
A39: 28 | B39: 03 – Concrete | C39: — | D39: Concrete Columns | E39: C1:8"X16" Concrete Columns W/ Rein | G39: 0.68 | H39: 0.1 | I39: =G39*(1+H39) -> 0.748 | J39: CY
A40: 29 | B40: 03 – Concrete | C40: — | D40: Concrete Wall | E40: 8" Concrete Wall | G40: 11.538889 | H40: 0.1 | I40: =G40*(1+H40) -> 12.692778 | J40: CY
A41: 30 | B41: 03 – Concrete | C41: — | D41: Concrete Wall | E41: 16" Concrete Wall | G41: 48.766667 | H41: 0.1 | I41: =G41*(1+H41) -> 53.643333 | J41: CY
A42: 31 | B42: 03 – Concrete | C42: — | D42: Concrete Beams | E42: Cb1018:(10"X18") Concrete Beams W/ Rein. | G42: 1.6476852 | H42: 0.1 | I42: =G42*(1+H42) -> 1.8124537 | J42: CY
A43: 32 | B43: 03 – Concrete | C43: — | D43: Concrete Beams | E43: Cb816:(8"X16") Concrete Beams W/ Rein. | G43: 1.2590913 | H43: 0.1 | I43: =G43*(1+H43) -> 1.3850004 | J43: CY
A44: 33 | B44: 03 – Concrete | C44: — | D44: Concrete Beams | E44: Cb824:(8"X24") Concrete Beams W/ Rein. | G44: 0.92559259 | H44: 0.1 | I44: =G44*(1+H44) -> 1.0181519 | J44: CY
A45: 34 | B45: 03 – Concrete | C45: — | D45: Concrete Beams | E45: Cb832:(8"X32") Concrete Beams W/ Rein. | G45: 1.8190914 | H45: 0.1 | I45: =G45*(1+H45) -> 2.0010005 | J45: CY
A46: 35 | B46: 03 – Concrete | C46: — | D46: Roof Slab | E46: 6" Roof Slab Light Weight 5 Ksi W/ Rein & Epoxy Coated | G46: 442.53 | H46: 0.1 | I46: =G46*(1+H46) -> 486.783 | J46: SF
A47: 36 | B47: 03 – Concrete | C47: — | D47: Concrete Beams | E47: Cb1224:(12"X24") Concrete Beams W/ Rein. | G47: 0.78296296 | H47: 0.1 | I47: =G47*(1+H47) -> 0.86125926 | J47: CY
A48: 37 | B48: 03 – Concrete | C48: — | D48: Concrete Beams | E48: Cb824:(8"X24") Concrete Beams W/ Rein. | G48: 0.19851852 | H48: 0.1 | I48: =G48*(1+H48) -> 0.21837037 | J48: CY
A49: 38 | B49: 03 – Concrete | C49: — | D49: Concrete Beams | E49: Cb824A:(8"X24") Concrete Beams W/ Rein. | G49: 0.93353333 | H49: 0.1 | I49: =G49*(1+H49) -> 1.0268867 | J49: CY
A50: 04 – UNIT MASONRY
A51: 39 | B51: 04 – Unit Masonry | C51: — | D51: Masonry | E51: 16X16 Solid Grouted Pilaster W/ | F51: Rein. | G51: 255 | H51: 0.1 | I51: =G51*(1+H51) -> 280.5 | J51: SF
A52: 40 | B52: 04 – Unit Masonry | C52: — | D52: Masonry | E52: 8" Masonry Wall | G52: 5365 | H52: 0.1 | I52: =G52*(1+H52) -> 5901.5 | J52: SF
A53: 41 | B53: 04 – Unit Masonry | C53: — | D53: Masonry | E53: 8" Solid Grouted Masonry Stem Wall | G53: 1627.5 | H53: 0.1 | I53: =G53*(1+H53) -> 1790.25 | J53: SF
A54: 42 | B54: 04 – Unit Masonry | C54: — | D54: Masonry | E54: 8" Planter Wall | G54: 925.68 | H54: 0.1 | I54: =G54*(1+H54) -> 1018.248 | J54: SF
A55: 43 | B55: 04 – Unit Masonry | C55: — | D55: Masonry | E55: 8" Fully Grouted Knock Block | G55: 232 | H55: 0.1 | I55: =G55*(1+H55) -> 255.2 | J55: LF
A56: 44 | B56: 04 – Unit Masonry | C56: — | D56: Masonry Pilaster | E56: M1:8"X24"X14'-6" W/ Rein. | F56: 4” pipe x 1/4 will set on a masonry pier | G56: 3 | H56: 0 | I56: =G56*(1+H56) -> 3 | J56: EA
A57: 45 | B57: 04 – Unit Masonry | C57: — | D57: Masonry Pilaster | E57: M2:8"X16"X14'-6" W/ Rein. | F57: 4” pipe x 1/4 will set on a masonry pier | G57: 2 | H57: 0 | I57: =G57*(1+H57) -> 2 | J57: EA
A58: 46 | B58: 04 – Unit Masonry | C58: — | D58: Lintels | E58: Ml2:8"X16" Lintel | G58: 58.41 | H58: 0.1 | I58: =G58*(1+H58) -> 64.251 | J58: LF
A59: 05 – METALS
A60: 47 | B60: 05 – Metals | C60: — | D60: Steel Columns | E60: Hss1:Hss8X8X1/2 | G60: 15 | H60: 0.1 | I60: =G60*(1+H60) -> 16.5 | J60: LF
A61: 48 | B61: 05 – Metals | C61: — | D61: Steel Columns | E61: Hss2:Hss6X6X1/2 | G61: 30 | H61: 0.1 | I61: =G61*(1+H61) -> 33 | J61: LF
A62: 49 | B62: 05 – Metals | C62: — | D62: Steel Columns | E62: P1:Hss4X0.250 | G62: 330 | H62: 0.1 | I62: =G62*(1+H62) -> 363 | J62: LF
A63: 50 | B63: 05 – Metals | C63: — | D63: Steel Columns | E63: P2:Hss3X0.250 | G63: 60 | H63: 0.1 | I63: =G63*(1+H63) -> 66 | J63: LF
A64: 51 | B64: 05 – Metals | C64: — | D64: Steel Columns | E64: Wf1:W8X35 | G64: 45 | H64: 0.1 | I64: =G64*(1+H64) -> 49.5 | J64: LF
A65: 52 | B65: 05 – Metals | C65: — | D65: Steel Columns | E65: Wf2:W8X40 | G65: 90 | H65: 0.1 | I65: =G65*(1+H65) -> 99 | J65: LF
A66: 53 | B66: 05 – Metals | C66: — | D66: Steel Columns | E66: Wf3:W8X48 | G66: 30 | H66: 0.1 | I66: =G66*(1+H66) -> 33 | J66: LF
A67: 54 | B67: 05 – Metals | C67: — | D67: Steel Beams | E67: Hss8X16X1/8 | G67: 27.36 | H67: 0.1 | I67: =G67*(1+H67) -> 30.096 | J67: LF
A68: 55 | B68: 05 – Metals | C68: — | D68: Steel Beams | E68: W24X55 | G68: 86.35 | H68: 0.1 | I68: =G68*(1+H68) -> 94.985 | J68: LF
A69: 56 | B69: 05 – Metals | C69: — | D69: Steel Beams | E69: W14X22 | G69: 5.1 | H69: 0.1 | I69: =G69*(1+H69) -> 5.61 | J69: LF
A70: 57 | B70: 05 – Metals | C70: — | D70: Steel Beams | E70: W18X60 | G70: 25.3 | H70: 0.1 | I70: =G70*(1+H70) -> 27.83 | J70: LF
A71: 58 | B71: 05 – Metals | C71: — | D71: Steel Beams | E71: C10X25 | G71: 186.66 | H71: 0.1 | I71: =G71*(1+H71) -> 205.326 | J71: LF
... A75: 62 | B75: 05 – Metals | C75: — | D75: Angles | E75: L6X6X3/8 | G75: 101.51 | H75: 0.1 | I75: =G75*(1+H75) -> 111.661 | J75: LF
A76: 63 | B76: 05 – Metals | C76: — | D76: Roof Metal Deck | E76: Exterior Metal Roof Decks (Balconies & Canopies) | F76: 2" Deep 16 Ga Dovetail Type,Galv. Fasten Deck | G76: 1988.87 | H76: 0.1 | I76: =G76*(1+H76) -> 2187.757 | J76: SF
A77: 64 | B77: 05 – Metals | C77: — | D77: Beams | E77: W12X19 | G77: 13.03 | H77: 0.1 | I77: =G77*(1+H77) -> 14.333 | J77: LF
A78: 65 | B78: 05 – Metals | C78: — | D78: Beams | E78: W12X26 | G78: 228.92 | H78: 0.1 | I78: =G78*(1+H78) -> 251.812 | J78: LF
A79: 66 | B79: 05 – Metals | C79: — | D79: Beams | E79: W16X36 | G79: 139.4 | H79: 0.1 | I79: =G79*(1+H79) -> 153.34 | J79: LF
A80: 67 | B80: 05 – Metals | C80: — | D80: Beams | E80: W12X40 | G80: 101.94 | H80: 0.1 | I80: =G80*(1+H80) -> 112.134 | J80: LF
A81: 68 | B81: 05 – Metals | C81: — | D81: Beams | E81: C10X25 | G81: 40.45 | H81: 0.1 | I81: =G81*(1+H81) -> 44.495 | J81: LF
A82: 69 | B82: 05 – Metals | C82: — | D82: Beams | E82: C8X11.5 | G82: 40.46 | H82: 0.1 | I82: =G82*(1+H82) -> 44.506 | J82: LF
A83: 70 | B83: 05 – Metals | C83: — | D83: Angles & Plates | E83: L3X3X3/16 | G83: 277.52 | H83: 0.1 | I83: =G83*(1+H83) -> 305.272 | J83: LF
A84: 71 | B84: 05 – Metals | C84: — | D84: Angles & Plates | E84: Pl6X3X3/16 Bent Plate | G84: 126.93 | H84: 0.1 | I84: =G84*(1+H84) -> 139.623 | J84: LF
A85: 06 – WOOD, PLASTICS & COMPOSITES
A86: 72 | B86: 06 – Wood, Plastics & Composites | C86: — | D86: Trusses | E86: Girder Truss | G86: 44.1 | H86: 0.1 | I86: =G86*(1+H86) -> 48.51 | J86: LF
A87: 73 | B87: 06 – Wood, Plastics & Composites | C87: — | D87: Trusses | E87: Truss Bridging | G87: 273.6 | H87: 0.1 | I87: =G87*(1+H87) -> 300.96 | J87: LF
A88: 74 | B88: 06 – Wood, Plastics & Composites | C88: — | D88: Trusses | E88: 16" Deep Floor Trusses @ 16" Oc | G88: 2108.64 | H88: 0.1 | I88: =G88*(1+H88) -> 2319.504 | J88: SF
A89: 75 | B89: 06 – Wood, Plastics & Composites | C89: — | D89: Decking | E89: Pre-Engineered Composite Decking | G89: 710.36 | H89: 0.1 | I89: =G89*(1+H89) -> 781.396 | J89: SF
A90: 76 | B90: 06 – Wood, Plastics & Composites | C90: — | D90: Decking | E90: Decking Framing By Delegated Engineer | G90: 710.36 | H90: 0.1 | I90: =G90*(1+H90) -> 781.396 | J90: SF
A91: 77 | B91: 06 – Wood, Plastics & Composites | C91: — | D91: Floor Sheathing | E91: 3/4" T&G Plywood | G91: 2109 | H91: 0.1 | I91: =G91*(1+H91) -> 2319.9 | J91: SF
A92: 78 | B92: 06 – Wood, Plastics & Composites | C92: — | D92: Blocking | E92: 2X10 Pt Ledger | G92: 987 | H92: 0.1 | I92: =G92*(1+H92) -> 1085.7 | J92: LF
A93: 79 | B93: 06 – Wood, Plastics & Composites | C93: — | D93: Blocking | E93: 2X Blocking | G93: 169.17 | H93: 0.1 | I93: =G93*(1+H93) -> 186.087 | J93: LF
A94: 80 | B94: 06 – Wood, Plastics & Composites | C94: — | D94: Blocking | E94: 2X4 Blocking | G94: 177.15 | H94: 0.1 | I94: =G94*(1+H94) -> 194.865 | J94: LF
A95: 81 | B95: 06 – Wood, Plastics & Composites | C95: — | D95: Blocking | E95: 2X12" Ply Wood Blocking | G95: 60 | H95: 0.1 | I95: =G95*(1+H95) -> 66 | J95: LF
A96: 82 | B96: 06 – Wood, Plastics & Composites | C96: — | D96: Trusses | E96: 16" Deep Pre-Engineered Roof Trusses @ 24" Oc | G96: 3227.25 | H96: 0.1 | I96: =G96*(1+H96) -> 3549.975 | J96: SF
A97: 83 | B97: 06 – Wood, Plastics & Composites | C97: — | D97: Trusses | E97: 12" Deep Pre-Engineered Roof Trusses @ 24" Oc | G97: 2256.3 | H97: 0.1 | I97: =G97*(1+H97) -> 2481.93 | J97: SF
... A105: 91 | B105: 06 – Wood, Plastics & Composites | C105: — | D105: Door Trims | E105: Door Trims | G105: 835 | H105: 0.1 | I105: =G105*(1+H105) -> 918.5 | J105: LF
A106: 07 – THERMAL AND MOISTURE PROTECTION
A107: 92 | B107: 07 – Thermal and Moisture Protection | C107: — | D107: General | E107: Pre. Roof Access Ladder | G107: 1 | H107: 0 | I107: =G107*(1+H107) -> 1 | J107: EA
A108: 93 | B108: 07 – Thermal and Moisture Protection | C108: — | D108: Roofing | E108: Tpo Roofing Membrane | G108: 7500 | H108: 0.1 | I108: =G108*(1+H108) -> 8250 | J108: SF
A109: 94 | B109: 07 – Thermal and Moisture Protection | C109: — | D109: Roofing | E109: 1/2" Cover Board | G109: 7500 | H109: 0.1 | I109: =G109*(1+H109) -> 8250 | J109: SF
A110: 95 | B110: 07 – Thermal and Moisture Protection | C110: — | D110: Roofing | E110: Rigid Insulation | G110: 7500 | H110: 0.1 | I110: =G110*(1+H110) -> 8250 | J110: SF
A111: 96 | B111: 07 – Thermal and Moisture Protection | C111: — | D111: Exterior | E111: Wood Paneled | G111: 2985.63 | H111: 0.1 | I111: =G111*(1+H111) -> 3284.193 | J111: SF
A112: 97 | B112: 07 – Thermal and Moisture Protection | C112: — | D112: Exterior | E112: Building Paper | G112: 5300 | H112: 0.1 | I112: =G112*(1+H112) -> 5830 | J112: SF
A113: 98 | B113: 07 – Thermal and Moisture Protection | C113: — | D113: Exterior | E113: Paint @ Concrete Wall | G113: 1307.48 | H113: 0.1 | I113: =G113*(1+H113) -> 1438.228 | J113: SF
A114: 99 | B114: 07 – Thermal and Moisture Protection | C114: — | D114: Exterior | E114: Ocala Blocks | G114: 1071.52 | H114: 0.1 | I114: =G114*(1+H114) -> 1178.672 | J114: SF
A115: 100 | B115: 07 – Thermal and Moisture Protection | C115: — | D115: Exterior | E115: Breeze Blocks | G115: 815.24 | H115: 0.1 | I115: =G115*(1+H115) -> 896.764 | J115: SF
A116: 101 | B116: 07 – Thermal and Moisture Protection | C116: — | D116: Exterior | E116: Exterior Glazing | G116: 340.44 | H116: 0.1 | I116: =G116*(1+H116) -> 374.484 | J116: SF
...
